BEGIN:VCALENDAR
VERSION:2.0
PRODID:-//RCVB | Rosario Convention &amp; Visitors Bureau - ECPv6.15.14//NONSGML v1.0//EN
CALSCALE:GREGORIAN
METHOD:PUBLISH
X-ORIGINAL-URL:https://www.rosariobureau.com.ar
X-WR-CALDESC:Eventos para RCVB | Rosario Convention &amp; Visitors Bureau
REFRESH-INTERVAL;VALUE=DURATION:PT1H
X-Robots-Tag:noindex
X-PUBLISHED-TTL:PT1H
BEGIN:VTIMEZONE
TZID:America/Sao_Paulo
BEGIN:STANDARD
TZOFFSETFROM:-0200
TZOFFSETTO:-0300
TZNAME:-03
DTSTART:20180218T020000
END:STANDARD
BEGIN:DAYLIGHT
TZOFFSETFROM:-0300
TZOFFSETTO:-0200
TZNAME:-02
DTSTART:20181104T030000
END:DAYLIGHT
BEGIN:STANDARD
TZOFFSETFROM:-0200
TZOFFSETTO:-0300
TZNAME:-03
DTSTART:20190217T020000
END:STANDARD
END:VTIMEZONE
BEGIN:VTIMEZONE
TZID:UTC
BEGIN:STANDARD
TZOFFSETFROM:+0000
TZOFFSETTO:+0000
TZNAME:UTC
DTSTART:20160101T000000
END:STANDARD
END:VTIMEZONE
BEGIN:VEVENT
DTSTART;TZID=America/Sao_Paulo:20190505T080000
DTEND;TZID=America/Sao_Paulo:20190505T170000
DTSTAMP:20260424T192620
CREATED:20190211T114206Z
LAST-MODIFIED:20190211T114206Z
UID:4068-1557043200-1557075600@www.rosariobureau.com.ar
SUMMARY:Turismo Carretera Rosario
DESCRIPTION:
URL:https://www.rosariobureau.com.ar/event/turismo-carretera-rosario/
LOCATION:Autódromo Municipal\, Rosario\, santa fe\, 2000\, Argentina
ATTACH;FMTTYPE=image/jpeg:https://www.rosariobureau.com.ar/wp-content/uploads/2019/02/tc1920x600.jpg
END:VEVENT
BEGIN:VEVENT
DTSTART;TZID=America/Sao_Paulo:20190415T080000
DTEND;TZID=America/Sao_Paulo:20190415T170000
DTSTAMP:20260424T192620
CREATED:20190213T162237Z
LAST-MODIFIED:20190213T162315Z
UID:4089-1555315200-1555347600@www.rosariobureau.com.ar
SUMMARY:5º Corrida internacional 15K Puerto Norte Rosario - IV Campeonato Argentino y  Encuentro Iberoamericano de Carreras de Ruta para personas Ciegas y Disminuidas Visuales
DESCRIPTION:
URL:https://www.rosariobureau.com.ar/event/5o-corrida-internacional-15k-puerto-norte-rosario-iv-campeonato-argentino-y-encuentro-iberoamericano-de-carreras-de-ruta-para-personas-ciegas-y-disminuidas-visuales/
LOCATION:santa fe
END:VEVENT
BEGIN:VEVENT
DTSTART;TZID=America/Sao_Paulo:20190411T080000
DTEND;TZID=America/Sao_Paulo:20190411T170000
DTSTAMP:20260424T192620
CREATED:20190121T162744Z
LAST-MODIFIED:20190121T162744Z
UID:4050-1554969600-1555002000@www.rosariobureau.com.ar
SUMMARY:Alta Dirección
DESCRIPTION:
URL:https://www.rosariobureau.com.ar/event/alta-direccion/
LOCATION:Centro de Convenciones Ros Tower\, rosario\, santa fe\, 2000\, Argentina
ATTACH;FMTTYPE=image/jpeg:https://www.rosariobureau.com.ar/wp-content/uploads/2019/01/https___cdn.evbuc_.com_images_55101597_161765237264_1_original.jpg
END:VEVENT
BEGIN:VEVENT
DTSTART;TZID=America/Sao_Paulo:20190410T080000
DTEND;TZID=America/Sao_Paulo:20190413T170000
DTSTAMP:20260424T192620
CREATED:20190227T130801Z
LAST-MODIFIED:20190227T130834Z
UID:4104-1554883200-1555174800@www.rosariobureau.com.ar
SUMMARY:Torneo de Chefs
DESCRIPTION:Ronda Clasificatoria \nOrganiza: AEHGAR – FEHGRA
URL:https://www.rosariobureau.com.ar/event/torneo-de-chefs/
LOCATION:Centro de Convenciones Metropolitano\, av\, intendente lamas 610\, rosario\, santa fe\, 2000\, Argentina
END:VEVENT
BEGIN:VEVENT
DTSTART;TZID=America/Sao_Paulo:20190406T080000
DTEND;TZID=America/Sao_Paulo:20190407T170000
DTSTAMP:20260424T192620
CREATED:20190108T150407Z
LAST-MODIFIED:20190108T150407Z
UID:4019-1554537600-1554656400@www.rosariobureau.com.ar
SUMMARY:Foro Internacional de Angeología
DESCRIPTION:
URL:https://www.rosariobureau.com.ar/event/foro-internacional-de-angeologia/
LOCATION:Plaza Real Suites Hotel\, Santa Fe 1632\, Rosario\, Santa Fe\, 2000\, Argentina
ATTACH;FMTTYPE=image/png:https://www.rosariobureau.com.ar/wp-content/uploads/2019/01/Captura-de-pantalla-2019-01-08-a-las-12.00.50.png
END:VEVENT
BEGIN:VEVENT
DTSTART;VALUE=DATE:20190330
DTEND;VALUE=DATE:20190401
DTSTAMP:20260424T192620
CREATED:20190108T143825Z
LAST-MODIFIED:20190108T144144Z
UID:4012-1553904000-1554076799@www.rosariobureau.com.ar
SUMMARY:V Congreso de Cosmetología Facial y Corporal de la prov. de Santa Fe / 1er Simposio de medicina estética
DESCRIPTION:
URL:https://www.rosariobureau.com.ar/event/v-congreso-de-cosmetologia-facial-y-corporal-de-la-prov-de-santa-fe-1er-simposio-de-medicina-estetica/
LOCATION:Aristón Hotel\, rosario\, santa fe\, 2000\, Argentina
ATTACH;FMTTYPE=image/jpeg:https://www.rosariobureau.com.ar/wp-content/uploads/2019/01/WhatsApp-Image-2019-01-08-at-10.28.54.jpeg
END:VEVENT
BEGIN:VEVENT
DTSTART;VALUE=DATE:20190326
DTEND;VALUE=DATE:20190327
DTSTAMP:20260424T192620
CREATED:20190121T164938Z
LAST-MODIFIED:20190121T165413Z
UID:4054-1553558400-1553644799@www.rosariobureau.com.ar
SUMMARY:65 Workshop Turístico ARAV
DESCRIPTION:
URL:https://www.rosariobureau.com.ar/event/65-workshop-turistico-arav/
LOCATION:Centro de Convenciones Ros Tower\, rosario\, santa fe\, 2000\, Argentina
ATTACH;FMTTYPE=image/jpeg:https://www.rosariobureau.com.ar/wp-content/uploads/2019/01/2356c3df-8030-43b9-8488-663b5dc88ed3.jpg
END:VEVENT
BEGIN:VEVENT
DTSTART;VALUE=DATE:20190314
DTEND;VALUE=DATE:20190324
DTSTAMP:20260424T192620
CREATED:20181010T155638Z
LAST-MODIFIED:20181010T155638Z
UID:3817-1552521600-1553385599@www.rosariobureau.com.ar
SUMMARY:IV Juegos suramericanos de Playa
DESCRIPTION:
URL:https://www.rosariobureau.com.ar/event/iv-juegos-suramericanos-de-playa/
LOCATION:Balneario La Florida\, Rosario\, Santa Fe\, 2000\, Argentina
ATTACH;FMTTYPE=image/png:https://www.rosariobureau.com.ar/wp-content/uploads/2018/10/Captura-de-pantalla-2018-10-10-a-las-09.48.27.png
END:VEVENT
BEGIN:VEVENT
DTSTART;TZID=America/Sao_Paulo:20190309T080000
DTEND;TZID=America/Sao_Paulo:20190309T170000
DTSTAMP:20260424T192620
CREATED:20190215T125515Z
LAST-MODIFIED:20190215T125515Z
UID:4101-1552118400-1552150800@www.rosariobureau.com.ar
SUMMARY:Congreso de Delegados de  Ffemar
DESCRIPTION:
URL:https://www.rosariobureau.com.ar/event/congreso-de-delegados-de-ffemar/
LOCATION:santa fe
END:VEVENT
BEGIN:VEVENT
DTSTART;TZID=America/Sao_Paulo:20190223T080000
DTEND;TZID=America/Sao_Paulo:20190223T170000
DTSTAMP:20260424T192620
CREATED:20190213T162039Z
LAST-MODIFIED:20190213T162039Z
UID:4086-1550908800-1550941200@www.rosariobureau.com.ar
SUMMARY:XV Nocturna 10K Sonder Rosario
DESCRIPTION:
URL:https://www.rosariobureau.com.ar/event/xv-nocturna-10k-sonder-rosario/
LOCATION:Monumento nacional a la bandera\, bs as 1333\, rosario\, santa fe\, 2000\, Argentina
ATTACH;FMTTYPE=image/jpeg:https://www.rosariobureau.com.ar/wp-content/uploads/2019/02/maraton-sonder-10k-rosario-25022018.jpg
END:VEVENT
BEGIN:VEVENT
DTSTART;TZID=America/Sao_Paulo:20190209T080000
DTEND;TZID=America/Sao_Paulo:20190209T170000
DTSTAMP:20260424T192620
CREATED:20190116T153907Z
LAST-MODIFIED:20190116T153907Z
UID:4048-1549699200-1549731600@www.rosariobureau.com.ar
SUMMARY:Maratón Acuática Internacional 2019
DESCRIPTION:Desde el año 1995 las aguas del río Paraná son escenario de una de las competencias más atractivas del Circuito Internacional de Natación de Aguas Abiertas: el Maratón Acuático Internacional Ciudad de Rosario. \nLa competencia forma parte del selecto grupo de competencias que componen la Copa del Mundo de Natación de Aguas Abiertas de la Federación Internacional de Natación\, halago que comparte con otras importantes ciudades del mundo. \nLa actividad convoca todos los años a miles de espectadores en nuestra ribera del río Paraná\, en la Rambla Catalunya\, donde una multitud tributa un merecido reconocimiento a los mejores nadadores del mundo de la especialidad. \nDesde el 2007\, acompañando las variantes que derivaron en la incorporación de las aguas abiertas como disciplina olímpica\, el recorrido se realiza íntegramente frente a las playas de la ciudad de Rosario\, con el marco imponente\, imagen del progreso de nuestros tiempos\, del puente Rosario – Victoria. \nEl circuito tiene una extensión de casi 2 km en dónde una multitud de decenas de miles de espectadores que se congrega en las playas de la costa rosarina no se cansa de acompañar con su aliento a cada uno de quienes protagonizan el evento deportivo más importante del verano de nuestra ciudad.
URL:https://www.rosariobureau.com.ar/event/maraton-acuatica-internacional-2019/
LOCATION:Balneario La Florida\, Rosario\, Santa Fe\, 2000\, Argentina
END:VEVENT
BEGIN:VEVENT
DTSTART;TZID=America/Sao_Paulo:20190114T080000
DTEND;TZID=America/Sao_Paulo:20190120T170000
DTSTAMP:20260424T192620
CREATED:20190108T145749Z
LAST-MODIFIED:20190108T145749Z
UID:4015-1547452800-1548003600@www.rosariobureau.com.ar
SUMMARY:FOLAC 2019
DESCRIPTION:
URL:https://www.rosariobureau.com.ar/event/folac-2019/
LOCATION:santa fe
ATTACH;FMTTYPE=image/png:https://www.rosariobureau.com.ar/wp-content/uploads/2019/01/Captura-de-pantalla-2019-01-08-a-las-11.52.07.png
END:VEVENT
BEGIN:VEVENT
DTSTART;TZID=UTC:20181201T080000
DTEND;TZID=UTC:20181204T170000
DTSTAMP:20260424T192620
CREATED:20181009T160927Z
LAST-MODIFIED:20181009T160927Z
UID:3798-1543651200-1543942800@www.rosariobureau.com.ar
SUMMARY:55 Congreso Argentino de Ortopedia y Traumatología
DESCRIPTION:
URL:https://www.rosariobureau.com.ar/event/55-congreso-argentino-de-ortopedia-y-traumatologia/
LOCATION:Centro de Convenciones Metropolitano\, av\, intendente lamas 610\, rosario\, santa fe\, 2000\, Argentina
ATTACH;FMTTYPE=image/png:https://www.rosariobureau.com.ar/wp-content/uploads/2018/10/Captura-de-pantalla-2018-10-09-a-las-10.08.08.png
END:VEVENT
BEGIN:VEVENT
DTSTART;TZID=UTC:20181109T080000
DTEND;TZID=UTC:20181118T170000
DTSTAMP:20260424T192620
CREATED:20181009T161647Z
LAST-MODIFIED:20181010T150435Z
UID:3801-1541750400-1542560400@www.rosariobureau.com.ar
SUMMARY:34 Edición del Encuentro y Fiesta Nacional de Colectividades
DESCRIPTION:
URL:https://www.rosariobureau.com.ar/event/34-edidicion-del-encuentro-y-fiesta-nacional-de-colectividades/
LOCATION:Parque Nacional a la Bandera\, ESTEVEZ BOERO GUILLERMO 501\, Rosario\, Santa fe\, 2000\, Argentina
ATTACH;FMTTYPE=image/jpeg:https://www.rosariobureau.com.ar/wp-content/uploads/2018/10/embajadores-2017.jpg
END:VEVENT
BEGIN:VEVENT
DTSTART;TZID=UTC:20181106T080000
DTEND;TZID=UTC:20181107T170000
DTSTAMP:20260424T192620
CREATED:20181019T163644Z
LAST-MODIFIED:20181019T163644Z
UID:3851-1541491200-1541610000@www.rosariobureau.com.ar
SUMMARY:Silicon Valley Forum
DESCRIPTION:Jornadas de Inmersión en AgTech
URL:https://www.rosariobureau.com.ar/event/silicon-valley-forum/
LOCATION:galpones 15 y 17\, Parque Nacional a la Bandera\, rosario\, santa fe\, 2000\, Argentina
ATTACH;FMTTYPE=image/jpeg:https://www.rosariobureau.com.ar/wp-content/uploads/2018/10/f4cf10df-4ca2-4c51-90c9-5c268eedfb4f.jpg
END:VEVENT
BEGIN:VEVENT
DTSTART;TZID=UTC:20181022T080000
DTEND;TZID=UTC:20181025T170000
DTSTAMP:20260424T192620
CREATED:20181022T153854Z
LAST-MODIFIED:20181023T152154Z
UID:3859-1540195200-1540486800@www.rosariobureau.com.ar
SUMMARY:22 Conferencia del Acero y EXPO IAS 2018
DESCRIPTION:Rosario será sede de la Cumbre de la Siderurgia \n  \nDel 22 al 25 de octubre se reunirán los líderes de las empresas siderúrgicas de más de 19 países para analizar el panorama del sector. \n  \nRosario será sede del congreso del Instituto Argentino de Siderurgia (IAS)\, que durante cuatro jornadas convoca la atención de grandes empresas de capitales nacionales e internacionales del rubro en la 22ª Conferencia del Acero IAS\, que se desarrollará en el Centro de Convenciones City Center de la ciudad de Rosario. \n  \nEl lunes 22 de octubre a las 19:30 hs. se celebrará el acto de apertura con autoridades locales y regionales\, así como directivos de las industrias siderometalúrgicas del país y del extranjero. Durante la ceremonia serán entregados los premios y menciones a los mejores trabajos de la Conferencia del 2016. \n  \nPreviamente se desarrollaran tres Cursos Pre-Conferencia con instructores de primer nivel mundial que disertarán sobre las últimas tendencias en diversos temas del proceso de la fabricación del acero: “Ciencia de los materiales e ingeniería de aceros modernos para la industria automotriz” a cargo del Dr. Wolfgang Bleck (RWTH Aachen University\, Alemania); “Polvos coladores\, un asunto de magia negra?” a cargo del Dr. Il Sohn\, (Yonsei University\, Corea); y “Desarrollos recientes en tecnología y operación de hornos eléctricos (HEA)” a cargo del Dr. Ing. Thomas Echterhof (RWTH Aachen University\, Alemania). \n  \nLa Conferencia del Acero se desarrollará desde el martes 23 al jueves 25 de octubre\, comprenderá temas que van desde materias primas hasta productos finales\, incluyendo sesiones especiales de seguridad y medio ambiente\, y con especial énfasis en “Steel Industry 4.0” actualmente uno de los mayores intereses para la comunidad siderúrgica. Habrá Sesiones Técnicas donde se presentarán más de 170 trabajos en 6 salas simultáneas\, con delegados provenientes de más de 19 países. \n  \nSimultáneamente tendrá lugar la EXPO IAS 2018 con la participación de empresas proveedoras de servicios\, insumos y nuevas tecnologías de los cinco continentes. \n  \nEs de destacar el Foro Ejecutivo del Acero\, que se llevará a cabo el miércoles 24 de octubre con la participación de tres CEO’s de las empresas siderúrgicas miembros del IAS\, quienes compartirán visiones sobres temas de interés común de la industria siderúrgica. \n  \nLa semana del acero finalizará el 26 de octubre con las tradicionales visitas a tres plantas industriales de la región. \n  \nPara mayor información e inscripción visite: https://www.siderurgia.org.ar/conf18/
URL:https://www.rosariobureau.com.ar/event/cumbre-de-siderurgia/
LOCATION:Centro de Convenciones City Center Rosario\, Moreno 6398\, Rosario\, santa fe\, 2000\, Argentina
ATTACH;FMTTYPE=image/png:https://www.rosariobureau.com.ar/wp-content/uploads/2018/10/Captura-de-pantalla-2018-10-22-a-las-09.38.02.png
END:VEVENT
BEGIN:VEVENT
DTSTART;TZID=UTC:20181019T080000
DTEND;TZID=UTC:20181019T130000
DTSTAMP:20260424T192620
CREATED:20181011T170227Z
LAST-MODIFIED:20181011T184542Z
UID:3830-1539936000-1539954000@www.rosariobureau.com.ar
SUMMARY:8º JORNADAS MERCADOS GRANARIOS
DESCRIPTION:
URL:https://www.rosariobureau.com.ar/event/8o-jornadas-mercados-granarios/
LOCATION:Bolsa de Comercio Rosario\, paraguay 777\, rosario\, santa fe\, 2000\, Argentina
ATTACH;FMTTYPE=image/png:https://www.rosariobureau.com.ar/wp-content/uploads/2018/10/Captura-de-pantalla-2018-10-11-a-las-11.00.43.png
END:VEVENT
BEGIN:VEVENT
DTSTART;TZID=UTC:20180510T080000
DTEND;TZID=UTC:20180511T170000
DTSTAMP:20260424T192620
CREATED:20170623T145925Z
LAST-MODIFIED:20170623T145936Z
UID:3401-1525939200-1526058000@www.rosariobureau.com.ar
SUMMARY:VI Congreso Argentino de Trauma y Emergencias Médico-Quirúrgicas VI Congreso de Emergenciología de Rosario VI Congreso Nacional de Enfermería en la Emergencia V Congreso Nacional de Instrumentadores en la Emergencia V Jornadas Rosarinas de Asistencia Kinésica en Instituciones de Emergencia 10 y 11 de mayo de 2018
DESCRIPTION:Organizan: Hospital de Emergencias “Dr. Clemente Álvarez” y Fundación HECA \nOPC: Marcela Clemente Congresos & Eventos Corporativos \nWeb: http://www.congresoheca.com.ar \n 
URL:https://www.rosariobureau.com.ar/event/vi-congreso-argentino-de-trauma-y-emergencias-medico-quirurgicas-vi-congreso-de-emergenciologia-de-rosario-vi-congreso-nacional-de-enfermeria-en-la-emergencia-v-congreso-nacional-de-instrumentadores-e/
LOCATION:Centro de Convenciones Ros Tower\, rosario\, santa fe\, 2000\, Argentina
ATTACH;FMTTYPE=image/png:https://www.rosariobureau.com.ar/wp-content/uploads/2017/06/Captura-de-pantalla-2017-06-23-a-las-08.58.25.png
END:VEVENT
BEGIN:VEVENT
DTSTART;TZID=UTC:20171109T080000
DTEND;TZID=UTC:20171109T170000
DTSTAMP:20260424T192620
CREATED:20171109T185028Z
LAST-MODIFIED:20171109T185053Z
UID:3502-1510214400-1510246800@www.rosariobureau.com.ar
SUMMARY:Encuentro Interdisciplinario para una vida diferente
DESCRIPTION:Mas info en : \n  \nwww.facebook.com/events/1918901495017799/
URL:https://www.rosariobureau.com.ar/event/encuentro-interdisciplinario-para-una-vida-diferente/
LOCATION:santa fe
END:VEVENT
BEGIN:VEVENT
DTSTART;TZID=UTC:20171025T080000
DTEND;TZID=UTC:20171026T170000
DTSTAMP:20260424T192620
CREATED:20170731T181043Z
LAST-MODIFIED:20170731T181043Z
UID:3454-1508918400-1509037200@www.rosariobureau.com.ar
SUMMARY:Expo Inversiones 2017
DESCRIPTION:El eje central de la Expo será brindarles la posibilidad a aquellas personas que deseen realizar inversiones\, sin importar el monto del que se trate\, de encontrar en un solo lugar físico y en dos días el más amplio abanico de posibilidades para analizarlas personalmente. \nLos asistentes tendrán la oportunidad de evaluar diferentes alternativas de inversión agrupadas en tres categorías principales: Inmobiliarias\, Financieras o de Negocios. En cada una de ellas se los va a asesorar de tal manera que puedan consultar acerca de sus características e incluso aprender acerca de instrumentos que probablemente desconocen. \nAsimismo\, los representantes de entidades bancarias\, bolsas\, fondos comunes de inversión y real estate tendrán la oportunidad de comunicar las ventajas y beneficios de sus ofertas\, analizando con el interesado el tipo de propuesta que más se adecúa al presupuesto destinado a invertir y al perfil de riesgo de dicho inversor. \nEl acceso al auditorio donde se realizarán las charlas será pago. La tarifa se irá modificando de acuerdo con la proximidad de la fecha del evento. El acceso a la zona de stands será gratuito.
URL:https://www.rosariobureau.com.ar/event/expo-inversiones-2017/
LOCATION:Centro de Convenciones City Center Rosario\, Moreno 6398\, Rosario\, santa fe\, 2000\, Argentina
ATTACH;FMTTYPE=image/png:https://www.rosariobureau.com.ar/wp-content/uploads/2017/07/expo_logotipo.png
END:VEVENT
BEGIN:VEVENT
DTSTART;TZID=UTC:20171006T080000
DTEND;TZID=UTC:20171007T170000
DTSTAMP:20260424T192620
CREATED:20170623T145741Z
LAST-MODIFIED:20170623T145741Z
UID:3399-1507276800-1507395600@www.rosariobureau.com.ar
SUMMARY:1° Congreso Americano de Emergencias Prehospitalarias CAEP Rosario 2017
DESCRIPTION:Organizan: CCREP Centro Cooperativo de Rescate y Emergencias Portuarias; y PAR Paramédico Argentino \nOPC: Marcela Clemente Congresos & Eventos Corporativos \nWeb: http://www.congresocaep.com.ar \n 
URL:https://www.rosariobureau.com.ar/event/1-congreso-americano-de-emergencias-prehospitalarias-caep-rosario-2017/
LOCATION:Centro de Convenciones Ros Tower\, rosario\, santa fe\, 2000\, Argentina
END:VEVENT
BEGIN:VEVENT
DTSTART;VALUE=DATE:20171004
DTEND;VALUE=DATE:20171005
DTSTAMP:20260424T192620
CREATED:20170717T163957Z
LAST-MODIFIED:20170717T163957Z
UID:3428-1507075200-1507161599@www.rosariobureau.com.ar
SUMMARY:EXPO CARRERAS ROSARIO 2017
DESCRIPTION:Una vez más tenemos el agrado de invitarlos a la nueva edición de Expo Carreras Rosario\, a realizarse nuevamente en el Salón Metropolitano del Alto Rosario Shopping (Junín 501) los días 4\, 5 y 6 de octubre del corriente año\, estando abierta al público en el amplio horario de 9 a 19.30hs. \nComo todos los años\, este es un evento totalmente gratuito y que ofrece: \n\nLa información más completa y actualizada\, de más de 800 Carreras\, Postítulos\, Cursos de Rosario y su región\, tanto Públicas\, Privadas\, Oficiales\, Presenciales y a Distancia\, todas importantísimas casas de estudios que exponen en 22° Expo Carreras Rosario.\nLa nueva edición de la GUIA de CARRERAS\, CURSOS y POSTÍTULOS\, con más de 900 opciones de Oficiales\, Privadas\, Presenciales y a Distancia.\nMesas de Consultas (Orientación Vocacional). Para que puedan preguntar y despejar todas las dudas sobre las Carreras\, las Facultades\, etc.\nMás de 50 Talleres y Charlas\,  sobre orientación vocacional\, primer empleo y curriculum\, aprender a estudiar\, el ingreso a la universidad y sobre las distintas carreras que se exponen en la 22° EXPO CARRERAS ROSARIO 2017\, entre otras importantes temáticas. (El Programa de Charlas se podrá ver en la web www.ambitodelaeducacion.com a mediados de septiembre).\nTest de Orientación Vocacionales Gratuitos\, durante los tres días continuamente.\nEste año volverán a estar instituciones Oficiales de nivel Superior pertenecientes a la Regional VI del Ministerio de Educación: UNR con la INFORMACIÓN en un stand de TODAS sus FACULTADES\, UTN\, UNER\, entre otras importantes Universidades públicas.\nSorteos\, regalos y sorpresas; con diversos premios para sus visitantes durante los tres días de Expo Carreras Rosario 2017. \nSorteos de Becas\, Medias Becas e importantes descuentos y bonificaciones otorgados de manera gratuita\, sólo por participar del evento ¡NOVEDAD!\nDeclarado por el Ministerio de Educación y Cultura de INTERES REGIONAL  (Disposición Nº 0818/09 – Reg. VI)\n\nLa importancia de asistir a este evento\, la da el gran abanico de nuevas carreras que le permiten los visitantes informarse y conocer todas opciones que hay para elegir y son las profesiones del futuro. Conocer al menos las llamadas “Carreras Especializadas” que se ofrecen actualmente\, es algo que los futuros estudiantes no podrán dejar de hacer para estar acorde a los nuevos requerimientos a nivel profesional. Muchas de estas nuevas carreras surgen de las necesidades laborales actuales y que demanda la sociedad de hoy en día. \nTambién hay muchas carreras cortas que se han incorporado a la oferta y que tienen una variedad muy amplia de opciones para elegir\, tanto para la rápida salida laboral que ofrecen como para capacitarse  oespecializarse en un área específica y en poco tiempo. \nLas carreras a distancia son otra nueva opción que va creciendo año a año y que cada vez va implementando mayor cantidad de recursos para facilitar la información y comunicación de sus estudiantes a través del buen uso de la tecnología.
URL:https://www.rosariobureau.com.ar/event/expo-carreras-rosario-2017/
LOCATION:Centro de Convenciones Metropolitano\, av\, intendente lamas 610\, rosario\, santa fe\, 2000\, Argentina
ATTACH;FMTTYPE=image/jpeg:https://www.rosariobureau.com.ar/wp-content/uploads/2017/07/360_imagen_800.jpg
END:VEVENT
BEGIN:VEVENT
DTSTART;TZID=UTC:20170928T080000
DTEND;TZID=UTC:20170930T170000
DTSTAMP:20260424T192620
CREATED:20170117T181113Z
LAST-MODIFIED:20170117T181113Z
UID:3155-1506585600-1506790800@www.rosariobureau.com.ar
SUMMARY:CONGRESO INTERNACIONAL: "A CIEN AÑOS DE LA REVOLUCIÓN RUSA"
DESCRIPTION:  \nOrganización \nDirector \nDra. Maria Cristina Viano \nSecretaria Técnica\nDra. Luciana Seminara \nContacto\nTeléfono\n0341-4802670 Interno 119 \nMail\nhistoria@unr.edu.ar \nHorarios Secretaría\nMañana\nLunes de 18 a 20 horas.\nMartes a Viernes de 10 a 12 horas.
URL:https://www.rosariobureau.com.ar/event/congreso-internacional-a-cien-anos-de-la-revolucion-rusa/
LOCATION:Facultad de Humanidades y Artes – UNR\, Entre Rios 758\, rosario\, santa fe\, 2000\, Argentina
END:VEVENT
BEGIN:VEVENT
DTSTART;VALUE=DATE:20170924
DTEND;VALUE=DATE:20170925
DTSTAMP:20260424T192620
CREATED:20170717T163809Z
LAST-MODIFIED:20170717T163809Z
UID:3425-1506211200-1506297599@www.rosariobureau.com.ar
SUMMARY:4TA FERIA DE TURISMO
DESCRIPTION:Domingo\, 24 de Septiembre de 2017 12:00 horas
URL:https://www.rosariobureau.com.ar/event/4ta-feria-de-turismo/
LOCATION:Centro de Convenciones Metropolitano\, av\, intendente lamas 610\, rosario\, santa fe\, 2000\, Argentina
ATTACH;FMTTYPE=image/jpeg:https://www.rosariobureau.com.ar/wp-content/uploads/2017/07/355_imagen_800-1.jpg
END:VEVENT
BEGIN:VEVENT
DTSTART;TZID=UTC:20170916T080000
DTEND;TZID=UTC:20170916T170000
DTSTAMP:20260424T192620
CREATED:20170117T180226Z
LAST-MODIFIED:20170117T180226Z
UID:3146-1505548800-1505581200@www.rosariobureau.com.ar
SUMMARY:5° Congreso Regional de Educación 2017
DESCRIPTION:La profesionalización del hacer del docente es una tarea que le cabe a cada uno y especialmente a las comunidades educativas formadas e integradas por docentes conscientes de la importancia de su rol\, pero muchas veces carentes de los tiempos y espacios para su construcción. \nEl Congreso Regional de Educación se plantea precisamente como un “tiempo y un espacio” para la construcción\, discusión y análisis de los componentes que deben constituir al docente en un profesional de nuestra sociedad. \nPor este motivo se invita a participar a todos los profesionales de la educación que deseen destinar un tiempo y un espacio en su tarea con este fin. \nLa invitación es para que participen activamente antes (preparando sus ensayos o redactando sus experiencias)\, durante (escuchándonos\, compartiendo experiencias y miradas con colegas) y después (constituyendo una red de producción permanente).
URL:https://www.rosariobureau.com.ar/event/5-congreso-regional-de-educacion-2017/
LOCATION:Fundación Archipielago\, Rioja 1250 - 1° "D"\, rosario\, santa fe\, 2000\, Argentina
ATTACH;FMTTYPE=image/png:https://www.rosariobureau.com.ar/wp-content/uploads/2017/01/Captura-de-pantalla-2017-01-17-a-las-12.01.57.png
END:VEVENT
BEGIN:VEVENT
DTSTART;TZID=UTC:20170907T080000
DTEND;TZID=UTC:20170909T170000
DTSTAMP:20260424T192620
CREATED:20170117T180900Z
LAST-MODIFIED:20170117T180900Z
UID:3152-1504771200-1504976400@www.rosariobureau.com.ar
SUMMARY:Congreso Argentino de Gastroenterología y Endoscopía Digestiva
DESCRIPTION:DESTACADOS DEL PROGRAMA\n\n\n\n Curso Pre-Congreso\n\n\n Workshop de Endoscopia Digestiva\n\n\n Enfermedades esofágicas discutidas en profundidad\n\n\n Enfermedad celíaca\, presente y futuro\n\n\n El espectro de los trastornos funcionales digestivos\n\n\n Microbiota intestinal\, conocimientos de aplicación práctica\n\n\n Cáncer de colon\, su prevención y detección\n\n\n Puesta al día de las patologías pancreáticas\n\n\n Procedimientos quirúrgicos para el tratamiento de la obesidad\n\n\n Tratamiento de las Hepatitis Crónicas Virales\n\n\n Hígado graso no alcohólico\, epidemia global\n\n\n\n Complicaciones de la cirrosis hepática
URL:https://www.rosariobureau.com.ar/event/congreso-argentino-de-gastroenterologia-y-endoscopia-digestiva/
LOCATION:Centro de Convenciones City Center Rosario\, Moreno 6398\, Rosario\, santa fe\, 2000\, Argentina
ATTACH;FMTTYPE=image/png:https://www.rosariobureau.com.ar/wp-content/uploads/2017/01/Captura-de-pantalla-2017-01-17-a-las-12.06.45.png
END:VEVENT
BEGIN:VEVENT
DTSTART;TZID=UTC:20170816T080000
DTEND;TZID=UTC:20170816T170000
DTSTAMP:20260424T192620
CREATED:20170801T154202Z
LAST-MODIFIED:20170801T154202Z
UID:3458-1502870400-1502902800@www.rosariobureau.com.ar
SUMMARY:PROGRAMA PRECOLOQUIO CENTRO 2017
DESCRIPTION:
URL:https://www.rosariobureau.com.ar/event/programa-precoloquio-centro-2017/
LOCATION:Bolsa de Comercio Rosario\, paraguay 777\, rosario\, santa fe\, 2000\, Argentina
ATTACH;FMTTYPE=image/png:https://www.rosariobureau.com.ar/wp-content/uploads/2017/08/Captura-de-pantalla-2017-08-01-a-las-09.39.36.png
END:VEVENT
BEGIN:VEVENT
DTSTART;VALUE=DATE:20170816
DTEND;VALUE=DATE:20170817
DTSTAMP:20260424T192620
CREATED:20170727T143904Z
LAST-MODIFIED:20170727T143904Z
UID:3450-1502841600-1502927999@www.rosariobureau.com.ar
SUMMARY:Precoloquio Centro 2017 -
DESCRIPTION:Matrícula: \nSocios $1400 / NO socios $1800 \nContacto \nInformes en Rosario:\nSanta Fe 1376\, 1° Piso – Rosario\nTel.: (0341) 440-4123\nprecoloquiocentro@ideamail.com.ar\n\nInformes en Buenos Aires:\nViamonte 570\, 1° piso – CABA\nTel.: (011) 4130-0000\ninfo@ideamail.com.ar\n —————————————————–\n\nIMPORTANTE\nLA MATRÍCULA INCLUYE:\nInscripción\, materiales\, coffee break y cóctel\n\nPOLÍTICA DE CANCELACIÓN:\nLas anulaciones efectuadas hasta el 31 de julio de tendrán un reintegro del 50%\, acreditándose el resto a futuras actividades que ofrece la Institución. Cancelaciones posteriores al 31 de julio no tendrán reintegro ni crédito alguno. Vacantes Limitadas.
URL:https://www.rosariobureau.com.ar/event/precoloquio-centro-2017/
LOCATION:Bolsa de Comercio Rosario\, paraguay 777\, rosario\, santa fe\, 2000\, Argentina
ATTACH;FMTTYPE=image/png:https://www.rosariobureau.com.ar/wp-content/uploads/2017/07/Captura-de-pantalla-2017-07-27-a-las-08.36.29.png
ORGANIZER;CN="IDEA":MAILTO:precoloquiocentro@ideamail.com.ar
END:VEVENT
BEGIN:VEVENT
DTSTART;VALUE=DATE:20170801
DTEND;VALUE=DATE:20170805
DTSTAMP:20260424T192620
CREATED:20170623T145643Z
LAST-MODIFIED:20170623T145643Z
UID:3396-1501545600-1501891199@www.rosariobureau.com.ar
SUMMARY:7th World Congress on Conservation Agriculture
DESCRIPTION:Desafioa Alimentarios del mundo. Se realiza junto al 25 Congreso Aapresid.
URL:https://www.rosariobureau.com.ar/event/7th-world-congress-on-conservation-agriculture/
LOCATION:Centro de Convenciones Metropolitano\, av\, intendente lamas 610\, rosario\, santa fe\, 2000\, Argentina
END:VEVENT
BEGIN:VEVENT
DTSTART;VALUE=DATE:20170728
DTEND;VALUE=DATE:20170729
DTSTAMP:20260424T192620
CREATED:20170725T163450Z
LAST-MODIFIED:20170725T163450Z
UID:3443-1501200000-1501286399@www.rosariobureau.com.ar
SUMMARY:Rosario Ciudad Educadora
DESCRIPTION:Jornadas de sensibilización.
URL:https://www.rosariobureau.com.ar/event/rosario-ciudad-educadora/
LOCATION:Centro Municipal del distrito noroeste Olga y Leticia Cossettini\, Av provincias Unidas 150 bis\, Rosario\, Santa Fe\, 2000\, Argentina
END:VEVENT
END:VCALENDAR