BEGIN:VCALENDAR
VERSION:2.0
PRODID:-//RCVB | Rosario Convention &amp; Visitors Bureau - ECPv6.15.14//NONSGML v1.0//EN
CALSCALE:GREGORIAN
METHOD:PUBLISH
X-ORIGINAL-URL:https://www.rosariobureau.com.ar
X-WR-CALDESC:Eventos para RCVB | Rosario Convention &amp; Visitors Bureau
REFRESH-INTERVAL;VALUE=DURATION:PT1H
X-Robots-Tag:noindex
X-PUBLISHED-TTL:PT1H
BEGIN:VTIMEZONE
TZID:America/Sao_Paulo
BEGIN:STANDARD
TZOFFSETFROM:-0200
TZOFFSETTO:-0300
TZNAME:-03
DTSTART:20180218T020000
END:STANDARD
BEGIN:DAYLIGHT
TZOFFSETFROM:-0300
TZOFFSETTO:-0200
TZNAME:-02
DTSTART:20181104T030000
END:DAYLIGHT
BEGIN:STANDARD
TZOFFSETFROM:-0200
TZOFFSETTO:-0300
TZNAME:-03
DTSTART:20190217T020000
END:STANDARD
END:VTIMEZONE
BEGIN:VEVENT
DTSTART;TZID=America/Sao_Paulo:20191016T080000
DTEND;TZID=America/Sao_Paulo:20191017T170000
DTSTAMP:20260424T143817
CREATED:20190813T124715Z
LAST-MODIFIED:20190813T124715Z
UID:4229-1571212800-1571331600@www.rosariobureau.com.ar
SUMMARY:Expo Inversiones
DESCRIPTION:
URL:https://www.rosariobureau.com.ar/event/expo-inversiones/
LOCATION:Centro de Convenciones City Center Rosario\, Moreno 6398\, Rosario\, santa fe\, 2000\, Argentina
END:VEVENT
BEGIN:VEVENT
DTSTART;VALUE=DATE:20191016
DTEND;VALUE=DATE:20191019
DTSTAMP:20260424T143817
CREATED:20190211T141217Z
LAST-MODIFIED:20190211T141217Z
UID:4082-1571184000-1571443199@www.rosariobureau.com.ar
SUMMARY:Curso pre congreso : Cómo lo hacen los expertos?
DESCRIPTION:XXVII Congreso de la Asociación Argentina de Cirugía de Cabeza y Cuello
URL:https://www.rosariobureau.com.ar/event/curso-pre-congreso-como-lo-hacen-los-expertos/
LOCATION:UNR Medicina
ATTACH;FMTTYPE=image/jpeg:https://www.rosariobureau.com.ar/wp-content/uploads/2019/02/download.jpg
END:VEVENT
BEGIN:VEVENT
DTSTART;TZID=America/Sao_Paulo:20191002T080000
DTEND;TZID=America/Sao_Paulo:20191004T170000
DTSTAMP:20260424T143817
CREATED:20190108T151039Z
LAST-MODIFIED:20190108T151039Z
UID:4024-1570003200-1570208400@www.rosariobureau.com.ar
SUMMARY:Congreso Internacional 60 Aniversario de la Facultad de Odontología UNR
DESCRIPTION:
URL:https://www.rosariobureau.com.ar/event/congreso-internacional-60-aniversario-de-la-facultad-de-odontologia-unr/
LOCATION:Centro de Convenciones Puerto Norte\, rosario\, santa fe\, 2000\, Argentina
ATTACH;FMTTYPE=image/png:https://www.rosariobureau.com.ar/wp-content/uploads/2019/01/Captura-de-pantalla-2019-01-08-a-las-12.09.53.png
END:VEVENT
BEGIN:VEVENT
DTSTART;TZID=America/Sao_Paulo:20190930T080000
DTEND;TZID=America/Sao_Paulo:20191004T170000
DTSTAMP:20260424T143817
CREATED:20190307T104253Z
LAST-MODIFIED:20190307T104821Z
UID:4107-1569830400-1570208400@www.rosariobureau.com.ar
SUMMARY:XXI Reunión Nacional de Educación en Física
DESCRIPTION:
URL:https://www.rosariobureau.com.ar/event/xxi-reunion-nacional-de-educacion-en-fisica/
LOCATION:UTN\, 2000\, Argentina
END:VEVENT
BEGIN:VEVENT
DTSTART;TZID=America/Sao_Paulo:20190928T080000
DTEND;TZID=America/Sao_Paulo:20190928T190000
DTSTAMP:20260424T143818
CREATED:20190730T125715Z
LAST-MODIFIED:20190730T135715Z
UID:4225-1569657600-1569697200@www.rosariobureau.com.ar
SUMMARY:Rosario sin TACC
DESCRIPTION:
URL:https://www.rosariobureau.com.ar/event/rosario-sin-tacc/
LOCATION:Centro de Convenciones Metropolitano\, av\, intendente lamas 610\, rosario\, santa fe\, 2000\, Argentina
ATTACH;FMTTYPE=image/jpeg:https://www.rosariobureau.com.ar/wp-content/uploads/2019/07/30708068_111776516347730_4581300026751320064_n.jpg
END:VEVENT
BEGIN:VEVENT
DTSTART;TZID=America/Sao_Paulo:20190927T080000
DTEND;TZID=America/Sao_Paulo:20190928T170000
DTSTAMP:20260424T143818
CREATED:20190108T150824Z
LAST-MODIFIED:20190108T150824Z
UID:4022-1569571200-1569690000@www.rosariobureau.com.ar
SUMMARY:XV Congreso Argentino de Acompañamiento Terapéutico
DESCRIPTION:
URL:https://www.rosariobureau.com.ar/event/xv-congreso-argentino-de-acompanamiento-terapeutico/
LOCATION:santa fe
END:VEVENT
BEGIN:VEVENT
DTSTART;TZID=America/Sao_Paulo:20190926T080000
DTEND;TZID=America/Sao_Paulo:20190928T170000
DTSTAMP:20260424T143818
CREATED:20190902T120235Z
LAST-MODIFIED:20190902T120235Z
UID:4262-1569484800-1569690000@www.rosariobureau.com.ar
SUMMARY:1er Congreso Internacional de Resiliencia Rosario 2019
DESCRIPTION:
URL:https://www.rosariobureau.com.ar/event/1er-congreso-internacional-de-resiliencia-rosario-2019/
LOCATION:Centro Cultural Roberto Fontanarosa\, San Martin 1080\, rosario\, santa fe\, 2000\, Argentina
END:VEVENT
BEGIN:VEVENT
DTSTART;TZID=America/Sao_Paulo:20190925T080000
DTEND;TZID=America/Sao_Paulo:20190927T170000
DTSTAMP:20260424T143818
CREATED:20190531T155923Z
LAST-MODIFIED:20190531T155923Z
UID:4186-1569398400-1569603600@www.rosariobureau.com.ar
SUMMARY:107º Congreso Ordinario Anual de la Federación Agraria Argentina
DESCRIPTION:
URL:https://www.rosariobureau.com.ar/event/107o-congreso-ordinario-anual-de-la-federacion-agraria-argentina/
LOCATION:santa fe
END:VEVENT
BEGIN:VEVENT
DTSTART;TZID=America/Sao_Paulo:20190925T080000
DTEND;TZID=America/Sao_Paulo:20190927T170000
DTSTAMP:20260424T143818
CREATED:20190522T121117Z
LAST-MODIFIED:20190522T121117Z
UID:4174-1569398400-1569603600@www.rosariobureau.com.ar
SUMMARY:XXIV Reunión Anual RED PYMES MERCOSUR
DESCRIPTION:
URL:https://www.rosariobureau.com.ar/event/xxiv-reunion-anual-red-pymes-mercosur/
LOCATION:UNR
END:VEVENT
BEGIN:VEVENT
DTSTART;TZID=America/Sao_Paulo:20190924T080000
DTEND;TZID=America/Sao_Paulo:20190927T170000
DTSTAMP:20260424T143818
CREATED:20190211T114359Z
LAST-MODIFIED:20190211T114359Z
UID:4071-1569312000-1569603600@www.rosariobureau.com.ar
SUMMARY:39 Congreso Argentino de Pediatría
DESCRIPTION:
URL:https://www.rosariobureau.com.ar/event/39-congreso-argentino-de-pediatria/
LOCATION:Centro de Convenciones Metropolitano\, av\, intendente lamas 610\, rosario\, santa fe\, 2000\, Argentina
END:VEVENT
BEGIN:VEVENT
DTSTART;TZID=America/Sao_Paulo:20190921T080000
DTEND;TZID=America/Sao_Paulo:20190923T170000
DTSTAMP:20260424T143818
CREATED:20190913T155037Z
LAST-MODIFIED:20190913T155037Z
UID:4271-1569052800-1569258000@www.rosariobureau.com.ar
SUMMARY:4º Simposio Nacional de Maquillaje
DESCRIPTION:
URL:https://www.rosariobureau.com.ar/event/4o-simposio-nacional-de-maquillaje/
LOCATION:Pueyrredon 762
ATTACH;FMTTYPE=image/png:https://www.rosariobureau.com.ar/wp-content/uploads/2019/09/Captura-de-Pantalla-2019-09-13-a-las-12.49.26.png
END:VEVENT
BEGIN:VEVENT
DTSTART;TZID=America/Sao_Paulo:20190921T080000
DTEND;TZID=America/Sao_Paulo:20190921T200000
DTSTAMP:20260424T143818
CREATED:20190513T133839Z
LAST-MODIFIED:20190906T122853Z
UID:4155-1569052800-1569096000@www.rosariobureau.com.ar
SUMMARY:1er Expo de Cosmética Nacional
DESCRIPTION:
URL:https://www.rosariobureau.com.ar/event/1er-expo-de-cosmetica-nacional/
LOCATION:Esplendor Savoy
END:VEVENT
BEGIN:VEVENT
DTSTART;TZID=America/Sao_Paulo:20190920T080000
DTEND;TZID=America/Sao_Paulo:20190921T170000
DTSTAMP:20260424T143818
CREATED:20190916T112729Z
LAST-MODIFIED:20190916T112729Z
UID:4275-1568966400-1569085200@www.rosariobureau.com.ar
SUMMARY:Primeras Jornadas de enlaces para mediadores. Intervenciones que transforman
DESCRIPTION:Más info: www.colabro.org.ar
URL:https://www.rosariobureau.com.ar/event/primeras-jornadas-de-enlaces-para-mediadores-intervenciones-que-transforman/
LOCATION:UNR\, Pellegrini 250\, Rosario\, santa fe\, 2000\, Argentina
ATTACH;FMTTYPE=image/jpeg:https://www.rosariobureau.com.ar/wp-content/uploads/2019/09/WhatsApp-Image-2019-09-16-at-08.14.22.jpeg
END:VEVENT
BEGIN:VEVENT
DTSTART;TZID=America/Sao_Paulo:20190920T080000
DTEND;TZID=America/Sao_Paulo:20190921T170000
DTSTAMP:20260424T143818
CREATED:20190813T155810Z
LAST-MODIFIED:20190813T155810Z
UID:4246-1568966400-1569085200@www.rosariobureau.com.ar
SUMMARY:I Jornada de Enlace para mediadores y comunidad. Intervenciones que transforman
DESCRIPTION:
URL:https://www.rosariobureau.com.ar/event/i-jornada-de-enlace-para-mediadores-y-comunidad-intervenciones-que-transforman/
LOCATION:FCEIA UNR\, Av. Pellegrini 250 -\, rosario\, santa fe\, 2000
END:VEVENT
BEGIN:VEVENT
DTSTART;TZID=America/Sao_Paulo:20190919T080000
DTEND;TZID=America/Sao_Paulo:20190922T170000
DTSTAMP:20260424T143818
CREATED:20190813T155612Z
LAST-MODIFIED:20190813T155612Z
UID:4243-1568880000-1569171600@www.rosariobureau.com.ar
SUMMARY:III Muestra Naútica Rosario
DESCRIPTION:
URL:https://www.rosariobureau.com.ar/event/iii-muestra-nautica-rosario/
LOCATION:CLUB MOP\, Comunidad Foral de Navarra 80\, rosario\, santa fe\, 2000\, Argentina
END:VEVENT
BEGIN:VEVENT
DTSTART;TZID=America/Sao_Paulo:20190919T080000
DTEND;TZID=America/Sao_Paulo:20190921T170000
DTSTAMP:20260424T143818
CREATED:20190524T124845Z
LAST-MODIFIED:20190524T124845Z
UID:4179-1568880000-1569085200@www.rosariobureau.com.ar
SUMMARY:XII Jornadas Latinoamericanas de Agilidad
DESCRIPTION:
URL:https://www.rosariobureau.com.ar/event/xii-jornadas-latinoamericanas-de-agilidad/
LOCATION:Centro de Convenciones Metropolitano\, av\, intendente lamas 610\, rosario\, santa fe\, 2000\, Argentina
END:VEVENT
BEGIN:VEVENT
DTSTART;TZID=America/Sao_Paulo:20190914T080000
DTEND;TZID=America/Sao_Paulo:20190915T170000
DTSTAMP:20260424T143818
CREATED:20190813T155312Z
LAST-MODIFIED:20190913T134247Z
UID:4241-1568448000-1568566800@www.rosariobureau.com.ar
SUMMARY:I Expo Pastelería Creativa
DESCRIPTION:
URL:https://www.rosariobureau.com.ar/event/i-expo-pasteleria-creativa/
LOCATION:Centro Cultural Roberto Fontanarosa\, San Martin 1080\, rosario\, santa fe\, 2000\, Argentina
END:VEVENT
BEGIN:VEVENT
DTSTART;TZID=America/Sao_Paulo:20190913T080000
DTEND;TZID=America/Sao_Paulo:20190913T170000
DTSTAMP:20260424T143818
CREATED:20190826T152425Z
LAST-MODIFIED:20190826T152425Z
UID:4259-1568361600-1568394000@www.rosariobureau.com.ar
SUMMARY:XXIV Congreso Argentino de Histotecnología
DESCRIPTION:
URL:https://www.rosariobureau.com.ar/event/xxiv-congreso-argentino-de-histotecnologia/
LOCATION:hotel plaza real
END:VEVENT
BEGIN:VEVENT
DTSTART;TZID=America/Sao_Paulo:20190912T080000
DTEND;TZID=America/Sao_Paulo:20190914T170000
DTSTAMP:20260424T143818
CREATED:20190521T153004Z
LAST-MODIFIED:20190521T153810Z
UID:4169-1568275200-1568480400@www.rosariobureau.com.ar
SUMMARY:III Encuentro Latinoamericano y del Caribe de Derechos Humanos y Salud Mental
DESCRIPTION:
URL:https://www.rosariobureau.com.ar/event/iii-encuentro-latinoamericano-y-del-caribe-de-derechos-humanos-y-salud-mental/
LOCATION:santa fe
END:VEVENT
BEGIN:VEVENT
DTSTART;TZID=America/Sao_Paulo:20190904T080000
DTEND;TZID=America/Sao_Paulo:20190906T170000
DTSTAMP:20260424T143818
CREATED:20190711T144923Z
LAST-MODIFIED:20190711T145132Z
UID:4197-1567584000-1567789200@www.rosariobureau.com.ar
SUMMARY:XIV Congreso Argentino de Derecho Societario / X Congreso Iberoamericano de Derecho Societario y de la empresa
DESCRIPTION:
URL:https://www.rosariobureau.com.ar/event/xiv-congreso-argentino-de-derecho-societario-x-congreso-iberoamericano-de-derecho-societario-y-de-la-empresa/
LOCATION:Centro de Convenciones Metropolitano\, av\, intendente lamas 610\, rosario\, santa fe\, 2000\, Argentina
END:VEVENT
BEGIN:VEVENT
DTSTART;TZID=America/Sao_Paulo:20190904T080000
DTEND;TZID=America/Sao_Paulo:20190906T170000
DTSTAMP:20260424T143818
CREATED:20190513T125344Z
LAST-MODIFIED:20190513T125344Z
UID:4149-1567584000-1567789200@www.rosariobureau.com.ar
SUMMARY:2 Encuentro de la Red de Trabajadores de Sitios de Memoria
DESCRIPTION:
URL:https://www.rosariobureau.com.ar/event/2-encuentro-de-la-red-de-trabajadores-de-sitios-de-memoria/
LOCATION:Museo de la memoria
END:VEVENT
BEGIN:VEVENT
DTSTART;TZID=America/Sao_Paulo:20190904T080000
DTEND;TZID=America/Sao_Paulo:20190905T170000
DTSTAMP:20260424T143818
CREATED:20190523T162536Z
LAST-MODIFIED:20190523T162536Z
UID:4177-1567584000-1567702800@www.rosariobureau.com.ar
SUMMARY:A todo Soja / Mercosoja 2019
DESCRIPTION:doble jornada para conocer integralmente la situación y pensar estrategias técnicas y comerciales para los próximos años. \nTodos los que integran tu potencial mercado\, van a estar aquí.
URL:https://www.rosariobureau.com.ar/event/a-todo-soja-mercosoja-2019/
LOCATION:Bolsa de Comercio Rosario\, paraguay 777\, rosario\, santa fe\, 2000\, Argentina
END:VEVENT
BEGIN:VEVENT
DTSTART;TZID=America/Sao_Paulo:20190903T080000
DTEND;TZID=America/Sao_Paulo:20190903T170000
DTSTAMP:20260424T143818
CREATED:20190826T151916Z
LAST-MODIFIED:20190826T152022Z
UID:4257-1567497600-1567530000@www.rosariobureau.com.ar
SUMMARY:Congreso Regional de Seguros
DESCRIPTION:
URL:https://www.rosariobureau.com.ar/event/congreso-regional-de-seguros/
LOCATION:Centro de Convenciones Puerto Norte\, rosario\, santa fe\, 2000\, Argentina
END:VEVENT
BEGIN:VEVENT
DTSTART;TZID=America/Sao_Paulo:20190827T080000
DTEND;TZID=America/Sao_Paulo:20190827T170000
DTSTAMP:20260424T143818
CREATED:20190522T121026Z
LAST-MODIFIED:20190522T121026Z
UID:4171-1566892800-1566925200@www.rosariobureau.com.ar
SUMMARY:I Jornada Nacional de Inteligencia Artificial y Justicia
DESCRIPTION:
URL:https://www.rosariobureau.com.ar/event/i-jornada-nacional-de-inteligencia-artificial-y-justicia/
LOCATION:UCEL
END:VEVENT
BEGIN:VEVENT
DTSTART;TZID=America/Sao_Paulo:20190826T080000
DTEND;TZID=America/Sao_Paulo:20190826T170000
DTSTAMP:20260424T143818
CREATED:20190826T151739Z
LAST-MODIFIED:20190826T151739Z
UID:4255-1566806400-1566838800@www.rosariobureau.com.ar
SUMMARY:1° Congreso Internacional de Resiliencia en Rosario 2019
DESCRIPTION:
URL:https://www.rosariobureau.com.ar/event/1-congreso-internacional-de-resiliencia-en-rosario-2019/
LOCATION:Centro Cultural Roberto Fontanarosa\, San Martin 1080\, rosario\, santa fe\, 2000\, Argentina
END:VEVENT
BEGIN:VEVENT
DTSTART;TZID=America/Sao_Paulo:20190817T080000
DTEND;TZID=America/Sao_Paulo:20190819T170000
DTSTAMP:20260424T143818
CREATED:20190813T155020Z
LAST-MODIFIED:20190813T155020Z
UID:4238-1566028800-1566234000@www.rosariobureau.com.ar
SUMMARY:XV Foro Nacional de Jóvenes “Descubro nuevos mundos\, simultáneos y ajenos”
DESCRIPTION:
URL:https://www.rosariobureau.com.ar/event/xv-foro-nacional-de-jovenes-descubro-nuevos-mundos-simultaneos-y-ajenos/
LOCATION:Centro Cultural Roberto Fontanarosa\, San Martin 1080\, rosario\, santa fe\, 2000\, Argentina
ATTACH;FMTTYPE=image/png:https://www.rosariobureau.com.ar/wp-content/uploads/2019/08/Captura-de-pantalla-2019-08-13-a-las-12.49.30.png
END:VEVENT
BEGIN:VEVENT
DTSTART;TZID=America/Sao_Paulo:20190814T080000
DTEND;TZID=America/Sao_Paulo:20190815T170000
DTSTAMP:20260424T143818
CREATED:20190813T153800Z
LAST-MODIFIED:20190813T153800Z
UID:4231-1565769600-1565888400@www.rosariobureau.com.ar
SUMMARY:III Cumbre Climática de las Américas
DESCRIPTION:Más info: \nHaz clic para acceder a Programa%20Cumbre%20Climatica%20D%C3%ADa%2015-8.pdf
URL:https://www.rosariobureau.com.ar/event/iii-cumbre-climatica-de-las-americas/
LOCATION:Centro de Convenciones Ros Tower\, rosario\, santa fe\, 2000\, Argentina
ATTACH;FMTTYPE=image/png:https://www.rosariobureau.com.ar/wp-content/uploads/2019/08/Captura-de-pantalla-2019-08-13-a-las-12.36.13.png
END:VEVENT
BEGIN:VEVENT
DTSTART;TZID=America/Sao_Paulo:20190807T080000
DTEND;TZID=America/Sao_Paulo:20190809T170000
DTSTAMP:20260424T143818
CREATED:20190813T154754Z
LAST-MODIFIED:20190813T154754Z
UID:4235-1565164800-1565370000@www.rosariobureau.com.ar
SUMMARY:XXVII Congreso AAPRESID
DESCRIPTION:
URL:https://www.rosariobureau.com.ar/event/xxvii-congreso-aapresid/
LOCATION:Centro de Convenciones Metropolitano\, av\, intendente lamas 610\, rosario\, santa fe\, 2000\, Argentina
ATTACH;FMTTYPE=image/jpeg:https://www.rosariobureau.com.ar/wp-content/uploads/2019/08/MrL4x0Me.jpg
END:VEVENT
BEGIN:VEVENT
DTSTART;TZID=America/Sao_Paulo:20190708T080000
DTEND;TZID=America/Sao_Paulo:20190713T170000
DTSTAMP:20260424T143818
CREATED:20190215T125042Z
LAST-MODIFIED:20190621T115345Z
UID:4098-1562572800-1563037200@www.rosariobureau.com.ar
SUMMARY:XVII CAMPEONATO ARGENTINO DE MAXIBASQUET
DESCRIPTION:La Federación Femenina de Maxibásquet Argentina (FFEMAR) junto con la AROMABA\, invita a las Asociaciones y Agrupaciones de cada provincia a participar del XVII CAMPEONATO ARGENTINO DE MAXIBASQUET\, que se llevará a cabo en las ciudad de Rosario\, provincia de Santa Fe en julio del 2019.-
URL:https://www.rosariobureau.com.ar/event/xvii-campeonato-argentino-de-maxibasquet/
LOCATION:Plaza Real Suites Hotel\, Santa Fe 1632\, Rosario\, Santa Fe\, 2000\, Argentina
ATTACH;FMTTYPE=image/png:https://www.rosariobureau.com.ar/wp-content/uploads/2019/02/argentino.png
END:VEVENT
BEGIN:VEVENT
DTSTART;TZID=America/Sao_Paulo:20190623T080000
DTEND;TZID=America/Sao_Paulo:20190623T170000
DTSTAMP:20260424T143818
CREATED:20190213T162513Z
LAST-MODIFIED:20190213T162513Z
UID:4093-1561276800-1561309200@www.rosariobureau.com.ar
SUMMARY:XVIII 42k ROSARIO Maratón Internacional de la Bandera
DESCRIPTION:
URL:https://www.rosariobureau.com.ar/event/xviii-42k-rosario-maraton-internacional-de-la-bandera/
LOCATION:Monumento nacional a la bandera\, bs as 1333\, rosario\, santa fe\, 2000\, Argentina
END:VEVENT
END:VCALENDAR